DSET ^./nc_data0/2020/ohc_naQG3_2020_%j3.nc
DTYPE netcdf
TITLE daily SOHC
UNDEF -999
OPTIONS template
XDEF 401 LINEAR -100 0.25
YDEF 241 LINEAR 0 0.25
ZDEF 1 LINEAR 1 1
TDEF 60 LINEAR 1jul2020 1dy
VARS 8
ldmk=>landmask 0 t,y,x landmask
sst=>sst 0 t,y,x sea surface temperature
ssha=>ssha 0 t,y,x sea surface height above mean sea level
sshaE=>sshaE 0 t,y,x error in objective analysis of sea surface height above mean sea level
iso20C=>iso20C 0 t,y,x depth of the 20 degree Celsius isotherm
iso26C=>iso26C 0 t,y,x depth of the 26 degree Celsius isotherm
omld=>omld 0 t,y,x ocean mixed layer thickness
ohc=>ohc 0 t,y,x ocean heat content
ENDVARS *ohc=>ohc 0 t,y,x ocean heat content
